BEGIN:VCALENDAR
VERSION:2.0
PRODID:-//CiviCRM//NONSGML CiviEvent iCal//EN
X-WR-TIMEZONE:Australia/Sydney
METHOD:PUBLISH
BEGIN:VTIMEZONE
TZID:Australia/Sydney
BEGIN:STANDARD
TZOFFSETFROM:+1000
TZOFFSETTO:+1000
TZNAME:AEST
DTSTART:20260423T140000
END:STANDARD
END:VTIMEZONE
BEGIN:VEVENT
UID:CiviCRM_EventID_244_ceebdb7176b5a5a7b6e7d6252b1e8fb9@actcoss.org.au
SUMMARY:Information Session: CDNet website refresh
X-ALT-DESC;FMTTYPE=text/html:<!DOCTYPE HTML PUBLIC
  "-//W3C//DTD HTML 3.2//EN"><html><body><p style="
 margin-left:48px\;"> </p>\n \n <p><big>Join us for
  a free online information session where we'll sho
 wcase the latest updates to the CDNet platform and
  guide you through how to use it effectively. </bi
 g></p>\n \n <p><big>What the session will cover:</
 big></p>\n \n <ul>\n 	<li style="margin-left:48px\
 ;"><big>an overview of the new CDNet website</big>
 </li>\n 	<li style="margin-left:48px\;"><big>how t
 o make submissions</big></li>\n 	<li style="margin
 -left:48px\;"><big>how to subscribe and manage you
 r access\, and</big></li>\n 	<li style="margin-lef
 t:48px\;"><big>answers to commonly asked questions
 .</big><big> </big></li>\n </ul>\n \n <p><big>The 
 session will include a live Q&A with the designer 
 and administrator of CDNet.</big></p>\n \n <p><big
 >The session is ideal for current CDNet users\, co
 ntributors and anyone interested in accessing or s
 haring infomration through CDNet.</big></p></body>
 </html>
DESCRIPTION: \n \n \n \n Join us for a free online information
  session where we'll showcase the latest updates t
 o the CDNet platform and guide you through how to 
 use it effectively. \n \n \n \n What the session w
 ill cover:\n \n \n \n \n 	an overview of the new C
 DNet website\n 	how to make submissions\n 	how to 
 subscribe and manage your access\, and\n 	answers 
 to commonly asked questions. \n \n \n The session 
 will include a live Q&A with the designer and admi
 nistrator of CDNet.\n \n \n \n The session is idea
 l for current CDNet users\, contributors and anyon
 e interested in accessing or sharing infomration t
 hrough CDNet.\n \n 
CATEGORIES:Workshop
CALSCALE:GREGORIAN
DTSTAMP;TZID=Australia/Sydney:20260423T140000
DTSTART;TZID=Australia/Sydney:20260423T140000
DTEND;TZID=Australia/Sydney:20260423T150000
LOCATION:Online via MS Teams\n Australia\n 
URL:https://actcoss.org.au/civicrm/event/info/?reset=1&id=244
END:VEVENT
END:VCALENDAR
